BEGIN:VCALENDAR
METHOD:PUBLISH
BEGIN:VEVENT
DTSTAMP:20210813T005831Z
DTSTART:20210524T160026Z
DTEND:20210524T170041Z
LOCATION:ZOOM \nONLINE \nJOIN US
X-ALT-DESC;FMTTYPE=text/html:<p dir="RTL">הצטרפו לרו"ח זהר ממן, ראש יחידת עסקים קטנים ובינוניים ב-BDO</p>\n\n<p dir="RTL">להרצאה ממוקדת של 60 דקות בהן תקבלו את כל הידע הנדרש לפתיחת עסק</p>\n\n<p dir="RTL">והשלבים הראשונים בניהולו.</p>\n\n<p dir="RTL">בוובינר תקבלו את כל התשובות לשאלות:</p>\n\n<ul dir="rtl">\n	<li>איך פותחים עסק?</li>\n	<li>צעדים ראשונים לפני שיוצאים לדרך עצמאית</li>\n	<li>עוסק פטור, מורשה או חברה בע"מ?</li>\n	<li>מהי שותפות?</li>\n	<li>דוחות נפוצים ומי חייב בהם</li>\n	<li>ניהול עסק והתנהלות מול רשויות המס</li>\n	<li>צעדים ראשונים להבנת תזרים המזומנים</li>\n	<li>זמן לשאלות – תשובות מהקהל<br />\n	 </li>\n</ul>\n\n<p dir="RTL">* הוובינר יתקיים ב-ZOOM בהרשמה מראש וללא עלות</p>\n\n<p dir="RTL" style="text-align: center;"><strong>יום שני | 24.05 | 19:00-20:00 | ZOOM</strong></p>\n\n<p dir="RTL"><br />\n<a class="button primary" href="https://zoom.us/meeting/register/tJwoc-GrrDktGNONm7a_H4X58ZRvRAN3wTRb" name="button primary" target="_blank" title="button primary">להרשמה >></a></p>\n\n<p dir="RTL"> </p>\n
SUMMARY:פותחים עסק? מה שחייבים לדעת
PRIORITY:3
BEGIN:VALARM
TRIGGER:P0DT0H15M
ACTION:DISPLAY
DESCRIPTION:Reminder
END:VALARM
END:VEVENT
END:VCALENDAR
