BEGIN:VCALENDAR
METHOD:PUBLISH
BEGIN:VEVENT
DTSTAMP:20210717T192030Z
DTSTART;VALUE=DATE:20171211
DTEND;VALUE=DATE:20171212
LOCATION:בית אמות BDO, מנחם בגין 48, \nקומה 10 \nתל אביב
X-ALT-DESC;FMTTYPE=text/html:<h3><strong>יום עיון<br />\nבתחום המסעדנות</strong></h3>\n\n<p>אנחנו מתכבדים להזמינך ליום עיון להעשרת הידע <br />\nוקבלת כלים פרקטיים בתחום ניהול מסעדות</p>\n\n<p>הכנס מיועד לבעלי עסקים בתחום המסעדנות, מנכ"לים, מנהלי כספים ומנהלים.</p>\n\n<p>11.12.17 | יום ב' | 8:30-12:00 | BDO, קומה 10, מנחם בגין 48, תל אביב</p>\n\n<p> </p>\n\n<p> </p>\n\n<hr />\n<h3><u><strong>בתוכנית:</strong></u></h3>\n\n<h3>08:30-09:00</h3>\n\n<p>התכנסות וכיבוד</p>\n\n<h3><strong>09:00-09:30</strong></h3>\n\n<p><strong>נקודות למחשבה לפני פתיחת עסק בתחום המסעדנות</strong><br />\nרו"ח רן לירון, מוביל תחום המסעדנות, <span dir="LTR">BDO</span></p>\n\n<h3><strong>09:30-10:00</strong></h3>\n\n<p><b>מיסים עקיפים בענף המסעדנות - מוקשים והזדמנויות</b><br />\nעו"ד אילת יצחקי, שותפה, מחלקת מיסים עקיפים, <span dir="LTR">BDO</span></p>\n\n<h3><strong>10:00-10:20</strong></h3>\n\n<p><b>עושק ההיטל על העסקת עובדים זרים</b><br />\nשי ברמן, מנכ"ל איגוד המסעדות</p>\n\n<h3><strong>10:20-10:35</strong></h3>\n\n<p>הפסקה</p>\n\n<h3><strong>10:35-11:20</strong></h3>\n\n<p><b>פאנל מסעדנות, זכיינות ומה שביניהם</b><br />\n<strong>משתתפי הפאנל:</strong> דוריאן קופיט מנכ"ל קבוצת לאנדורה ותמיר ברלקו ממייסדי רשת <span dir="LTR">Arcaffe</span><br />\nבהנחיית עו"ד גיא קולן, שותף, משרד קולן-נבון המתמחה בזכיינות</p>\n\n<h3><strong>11:20-11:40</strong></h3>\n\n<p><strong>מי נוגס ברווחי המסעדנים - מדוע מסעדות בישראל לא מצליחות לשרוד?</strong><br />\nעידית שניר, מנהלת מחלקת הליטיגציה, <span dir="LTR">BDO Consulting</span></p>\n\n<h3><strong>11:40-12:00</strong></h3>\n\n<p dir="RTL" style="text-align: left;"><strong>הלוואות וקרן בערבות מדינה - לענף המסעדנות</strong><br />\nאליאל לוי, יועצת מטעם מעוף לקידום עסקים ויזמים בישראל</p>\n\n<h3> </h3>\n\n<h3>*ההשתתפות ביום העיון איננה כרוכה בתשלום, אך מותנית בהרשמה מראש ואישור סופי   </h3>\n\n<h3> </h3>\n\n<p> </p>\n\n<hr />\n<p> </p>\n\n<h3><b>להרשמה:</b></h3>\n\n<p>{^widget|(bizformname)Mazon_2017|(widget_displayname)On-line+form|(name)BizForm|(width)|(height)^}</p>\n
SUMMARY:יום עיון בתחום המסעדנות
PRIORITY:3
BEGIN:VALARM
TRIGGER:P0DT0H15M
ACTION:DISPLAY
DESCRIPTION:Reminder
END:VALARM
END:VEVENT
END:VCALENDAR
