BEGIN:VCALENDAR
METHOD:PUBLISH
BEGIN:VEVENT
DTSTAMP:20210717T192035Z
DTSTART:20180122T130000Z
DTEND:20180122T160000Z
LOCATION:בית אמות BDO, מנחם בגין 48, \nקומה 10 \nתל אביב
X-ALT-DESC;FMTTYPE=text/html:<h3><strong>יום עיון בנושא הרגולציה האירופית החדשה GDPR</strong></h3>\n\n<p>אנו שמחים להזמינכם למפגש מקצועי אשר ידון בהיבטים משפטיים, ארגונים וטכנולוגיים עם מומחים העוסקים ביישום, הלכה למעשה, של דרישות הגנת הפרטיות בהתאם לרגולציה האירופית GDPR וגם על תקנות הגנת הפרטיות הישראליות והקשר בינהן. </p>\n\n<p>22.1.18 | יום ב' | 15:00-18:00 | BDO, קומה 10, מנחם בגין 48, תל אביב</p>\n\n<hr />\n<h3><strong>לו"ז:</strong></h3>\n\n<p><big><strong>15:00-15:30 התכנסות וכיבוד<br />\n<br />\n15:30-16:10 תקנות? לא. חוק כלל אירופי! על הסדרת הפרטיות החדשה באירופה</strong></big><br />\nעו"ד חיים רביה, שותף בכיר וראש קבוצת האינטרנט והסייבר במשרד פרל כהן צדק לצר ברץ </p>\n\n<p><strong><big>16:10-16:40 סיפור משדה הקרב- היערכות לעמידה ב-GDPR</big></strong><br />\nעו"ד טל קרסו, מנהלת המחלקה המשפטית AudioCodes וגלעד ירון, ראש תחום אסטרטגיה ומיחשוב ענן, מרכז הגנת הסייבר BDO </p>\n\n<p><strong><big>16:40-17:00 הפסקה</big></strong></p>\n\n<p><strong><big>17:00-17:30 סוד המידע הנעלם- כלים ומתודולוגיות לזיהוי ומיפוי (E-discovery)</big></strong><br />\nרו"ח טל דולב, מנהל הייעוץ הטכנולוגי, BDO</p>\n\n<p><big><strong>17:30-18:00 פאנל פתוח- שאלות ותשובות עם צוות המומחים</strong></big></p>\n\n<p> </p>\n\n<p style="text-align: center;">המפגש מיועד ליועצים משפטיים פנימיים, מנהלי אבטחת מידע ומנהלי מערכות מידע</p>\n\n<p style="text-align: center;"> </p>\n\n<hr />\n<p> </p>\n\n<h3 style="text-align: center;"><strong>ההרשמה ליום העיון נסגרה</strong></h3>\n\n<p style="text-align: center;"> </p>\n
SUMMARY:יום עיון בנושא הרגולציה האירופית החדשה GDPR
PRIORITY:3
BEGIN:VALARM
TRIGGER:P0DT0H15M
ACTION:DISPLAY
DESCRIPTION:Reminder
END:VALARM
END:VEVENT
END:VCALENDAR
