BEGIN:VCALENDAR
METHOD:PUBLISH
BEGIN:VEVENT
DTSTAMP:20210717T192041Z
DTSTART;VALUE=DATE:20171206
DTEND;VALUE=DATE:20171207
LOCATION:ARCA \nיורדי הסירה 1 \nנמל תל אביב, ישראל
X-ALT-DESC;FMTTYPE=text/html:<h3><strong>כנס המיסים ה-18:<br />\nהאסטרטגיה המיסויית של המחר</strong></h3>\n\n<p>פירמת ראיית החשבון BDO ופירמת עורכי הדין גולדפרב זליגמן יקיימו זאת השנה ה - 18 את כנס המיסים והפיננסים השנתי אשר יעסוק בנושאים פיננסיים, כלכליים, מיסויים וחברתיים וזאת בהשתתפות בכירים בסקטור העסקי, לצד מומחים וקובעי מדיניות בישראל.</p>\n\n<p>הכנס מיועד ליו"ר, מנכ"ל, סמנכ"ל כספים, דירקטור, בעלי מניות, חשבים מנהלי כספים ונושאי תפקידים בכירים. השתתפות בכנס מחייבת הרשמה מראש וקבלת אישור השתתפות מהנהלת הכנס בדוא"ל. אין ההרשמה לכנס באמצעות אתר ההרשמה מאושרת באופן אוטומטי, יש להציג אישור הרשמה חוזר בדוא"ל ביום הכנס.</p>\n\n<p>*ההשתתפות מאושרת לעד 3 בעלי תפקידים בחברה.</p>\n\n<p><strong>מספר המקומות מוגבל. מהרו להירשם. לבירורים ניתן לפנות לכתובת המייל</strong> <a href="mailto:bdo@bdo.co.il">bdo@bdo.co.il</a> </p>\n\n<p><strong>מנחה:</strong> מתן חודורוב, פרשן לענייני כלכלה, חדשות ערוץ 10  </p>\n\n<p>6.12.17 | יום ד' | 8:30-14:00 | ARCA, יורדי הסירה 1, נמל תל אביב</p>\n\n<p> </p>\n\n<p> </p>\n\n<hr />\n<h3><u><strong>בתוכנית:</strong></u></h3>\n\n<h3>08:30-09:00</h3>\n\n<p>התכנסות והרשמה</p>\n\n<h3><strong>09:00-09:20</strong></h3>\n\n<p>דברי פתיחה</p>\n\n<ul>\n	<li dir="rtl">רו"ח דני מרגלית, יו"ר BDO</li>\n	<li dir="rtl">עו"ד אלי זהר, יו"ר גולדפרב זליגמן</li>\n	<li dir="rtl">הענקת אות BDO למצוינות על שם יגאל גוזמן</li>\n</ul>\n\n<h3><strong>09:20-09:50</strong> </h3>\n\n<p>אנחנו יודעים מה עשית בדו"ח האחרון: פקיד השומה VS האזרח</p>\n\n<p> עו"ד טל עצמון, שותף וראש מחלקת מיסים, גולדפרב זליגמן</p>\n\n<h3><strong>09:50-10:35</strong></h3>\n\n<p>פאנל: חקיקת המס החדשה – האומנם תחילתו של עידן?<br />\n<strong>מנחה ומשתתף:</strong> רו"ח (עו"ד) אייל רובין, שותף וראש אשכול המיסים, BDO <br />\n<strong>משתתפים:</strong> עו"ד חנה סלומון, רו"ח (עו"ד) טארק דיביני, רו"ח (עו"ד) אייל פישביין, שותפי אשכול המיסים, BDO</p>\n\n<h3><strong>10:35-11:05</strong></h3>\n\n<p>אז מה לעשות עם חברת הארנק שלי?  <br />\nעו"ד ירון סבר, שותף וסגן ראש מחלקת מיסים, גולדפרב זליגמן</p>\n\n<h3><strong>11:05-11:30</strong> </h3>\n\n<p>הפסקת Networking   </p>\n\n<h3><strong>11:30-12:00 </strong></h3>\n\n<p><strong>פאנל: </strong>עמדות רשות המיסים בפרספקטיבה של ניהול דיוני שומות          <br />\n<strong>מנחה ומשתתף:</strong> רו"ח (עו"ד) גיא רשטיק, שותף מיסים, BDO                             <br />\n<strong>משתתפים:</strong> עמית שליט, שותף ומנהל מחלקת מחירי העברה<br />\nBDO רו"ח ישראל יוסוביץ, שותף מיסוי בינלאומי, BDO</p>\n\n<h3><strong>12:00-12:15</strong></h3>\n\n<p>חידושים בעולם התמריצים       <br />\nרו"ח ארז עיני, שותף ומנהל מחלקת תמריצים, BDO</p>\n\n<h3><strong>12:15-12:45</strong></h3>\n\n<p>אכיפה בסימן עלייה: הערכות לקראת מערכת שער עולמי  <br />\nעו"ד גיל נדל, שותף וראש תחום דיני יבוא, יצוא וסחר בינלאומי, מחלקת מיסים, גולדפרב זליגמן</p>\n\n<h3><strong>13:00-14:00</strong> </h3>\n\n<p>סיום וארוחת צהריים <br />\n   </p>\n\n<h3>*יתכנו שינויים בלו"ז הכנס      </h3>\n\n<h3> </h3>\n\n<p> </p>\n\n<hr />\n<p> </p>\n\n<h3><b>להרשמה לכנס:</b></h3>\n\n<p>{^widget|(bizformname)Tax_2017|(widget_displayname)On-line+form|(name)BizForm|(width)|(height)^}</p>\n\n<p> </p>\n\n<p><br />\n </p>\n\n<p> </p>\n\n<p> </p>\n\n<p> </p>\n\n<p> </p>\n\n<p> </p>\n\n<p> </p>\n\n<p> </p>\n\n<p> </p>\n\n<p> </p>\n
SUMMARY:כנס המיסים ה - 18 
PRIORITY:3
BEGIN:VALARM
TRIGGER:P0DT0H15M
ACTION:DISPLAY
DESCRIPTION:Reminder
END:VALARM
END:VEVENT
END:VCALENDAR
