BEGIN:VCALENDAR
METHOD:PUBLISH
BEGIN:VEVENT
DTSTAMP:20210717T192047Z
DTSTART;VALUE=DATE:20171102
DTEND;VALUE=DATE:20171103
LOCATION:LAGO \nהמאה ועשרים 6  \nראשון לציון
X-ALT-DESC;FMTTYPE=text/html:<p>2.11.2017 | יום ה' | 8:30-14:00 | LAGO, רח' המאה ועשרים 6 ראשל"צ </p>\n\n<p><strong>סדר יום:</strong></p>\n\n<p>08:30-09:30 <strong>התכנסות וארוחת בוקר</strong><br />\n09:30-09:40<strong> דברי פתיחה סאלי אלקיים, דירקטור ומנהלת BDO Solutions</strong><br />\n09:40-09:50 <strong>דברי פתיחה גדי רחלזון, מנהל פעילות <a href="https://www.bdo.co.il/he-il/%D7%A9%D7%99%D7%A8%D7%95%D7%AA%D7%99-%D7%94%D7%A4%D7%99%D7%A8%D7%9E%D7%94/%D7%99%D7%A2%D7%95%D7%A5-%D7%A2%D7%A1%D7%A7%D7%99/%D7%A4%D7%AA%D7%A8%D7%95%D7%A0%D7%95%D7%AA-%D7%98%D7%9B%D7%A0%D7%95%D7%9C%D7%95%D7%92%D7%99%D7%99%D7%9D">SAP Business One</a> ישראל, SAP</strong><br />\n09:50-10:30 <strong>חידושים במערכת SAP Business One גרסה 9.3 פנינה לבן, מנהלת תחום פרויקטים, BDO Solutions</strong><br />\n10:30-10:45 <strong>חידושים בפתרון Insight 360 ללקוחות SAP Business One אדיר אורן, מנכ"ל BICS מקבוצת BDO </strong><br />\n10:45-11:00 <strong>הפסקת קפה וחלוקה למסלולים</strong></p>\n\n<p><strong>חלק א' </strong></p>\n\n<p><u>מסלול 1</u><br />\n11:00-11:40<br />\n<strong>LPOne למערכת SAP Business One ,ניהול, שליטה ובקרה בארגון באמצעות פתרון ייצור מורחב</strong><br />\nתמיר בכר, מנהל פרויקטים בכיר, BDO Solutions</p>\n\n<p><br />\n<u>מסלול 2</u><br />\n11:00-11:40    <br />\n<strong>ניהול תקציב הארגון באמצעות פתרון תקציב BDO Budget למערכת SAP Business One</strong><br />\nפנינה לבן, מנהלת תחום פרויקטים, BDO Solutions</p>\n\n<p><strong>חלק ב' </strong></p>\n\n<p><u>מסלול 1</u>       <br />\n11:50-12:30    <br />\n<strong>יעילות בניהול ותפעול מחסן באמצעות פתרון Warehouse Expert        </strong><br />\nתמיר בכר, מנהל פרויקטים בכיר, BDO Solutions</p>\n\n<p><u>מסלול 2</u><br />\n11:45-12:10        <br />\n<strong>למקסם את מערך השיווק והמכירות</strong><br />\nקובי לנגלייב מנכ"ל bmby</p>\n\n<p>12:10-12:30<br />\n<strong>ניהול המידע העסקי וסיכוני אשראי</strong><br />\nאפרת שגב, סמנכ"ל פיתוח עסקי דן אנד ברדסטריט ישראל</p>\n\n<p>12:30-13:00 <strong>הגנת סייבר ללקוחות SAP Business One נועם הנדרוקר, דירקטור, </strong><br />\nמנהל פעילות ישראל, SECOZ - מרכז הגנת הסייבר BDO<br />\n13:00-14:00 <strong>ארוחת צהריים</strong></p>\n\n<hr />\n<p><a class="button primary" href="http://bdo.activetrail.biz/BusinessOne" target="_blank" title="button primary">להרשמה לכנס לחץ כאן</a></p>\n
SUMMARY:כנס לקוחות שנתי של BDO Solutions בתחום SAP Business One
PRIORITY:3
BEGIN:VALARM
TRIGGER:P0DT0H15M
ACTION:DISPLAY
DESCRIPTION:Reminder
END:VALARM
END:VEVENT
END:VCALENDAR
