BEGIN:VCALENDAR
METHOD:PUBLISH
BEGIN:VEVENT
DTSTAMP:20210717T192051Z
DTSTART;VALUE=DATE:20171225
DTEND;VALUE=DATE:20171226
LOCATION:Markspace עתידים \nדבורה הנביאה 121 \nתל אביב
X-ALT-DESC;FMTTYPE=text/html:<h3 dir="RTL"> </h3>\n\n<h4 dir="RTL">הנכם מוזמנים להצטרף אלינו למפגש שיעסוק במימון המונים ושינויי הרגולציה הצפויים.<br />\nאנו נעביר את המפגש בשיתוף עם משרד עו"ד יגאל ארנון ונשמח לראותכם כמו גם להציף<br />\nאתגרים ומפתחות לקראת המציאות כפי שהיא הולכת להתעצב.</h4>\n\n<h4 dir="RTL"> </h4>\n\n<p dir="RTL"><u><strong>להלן הלו"ז:</strong></u></p>\n\n<p><strong>17:30 </strong><br />\nהתכנסות<br />\n<br />\n<strong>17:45 - 18:00</strong><br />\nדברי פתיחה<br />\n<br />\n<strong>18:00 - 18:20</strong> <strong>עו"ד שירי שחם, שותפה במשרד עו"ד יגאל ארנון </strong> <br />\nמימון המונים – מה מאפשרים ההסדרים החוקיים החדשים<br />\n<br />\n<strong>18:20 - 18:40   BDO ישראל- רו"ח גיא רשטיק, שותף מנהל מחלקת מיסוי תאגידים BDO</strong><br />\nמיסוי בעולמות של גיוס המונים<br />\n<br />\n<strong>18:40 - 19:00 יוסי מאירי, מנכ"ל קבוצת הדסטארט </strong><br />\nמהפכת גיוס ההמונים בדרך! אז איך עושים את זה?<br />\n<br />\n<strong>19:00 </strong>סיכום ושאלות</p>\n\n<p> </p>\n\n<hr />\n<p> </p>\n\n<p><a class="button primary" href="http://yigalarnon.activetrail.biz/%D7%9E%D7%94%D7%A4%D7%9B%D7%AA-%D7%92%D7%99%D7%95%D7%A1-%D7%94%D7%94%D7%9E%D7%95%D7%A0%D7%99%D7%9D-%D7%91%D7%93%D7%A8%D7%9A" target="_blank" title="button primary">להרשמה</a></p>\n
SUMMARY:מהפכת גיוס ההמונים בדרך
PRIORITY:3
BEGIN:VALARM
TRIGGER:P0DT0H15M
ACTION:DISPLAY
DESCRIPTION:Reminder
END:VALARM
END:VEVENT
END:VCALENDAR
