BEGIN:VCALENDAR
METHOD:PUBLISH
BEGIN:VEVENT
DTSTAMP:20210717T192056Z
DTSTART:20170727T060057Z
DTEND:20170727T091500Z
LOCATION:מרכז כנסים - קיבוץ נחשונים \nמרכז כנסים - קיבוץ נחשונים \nנחשונים
X-ALT-DESC;FMTTYPE=text/html:<p><big>יום ה' | 27.7.17 | מרכז כנסים - קיבוץ נחשונים</big></p>\n\n<hr />\n<p><br />\n<strong><big>09:00-09:30 הרשמה וכיבוד</big></strong><br />\n </p>\n\n<p><strong><big>09:30-10:00 יחסי חבר עם הקיבוץ לאור הפסיקה ולאור השינויים בהוראות מס הכנסה וביטוח לאומי</big></strong></p>\n\n<p><big>עו"ד גיל דגן, שותף, משרד שלמה כהן ושות' - עורכי דין ומגשרים.</big><br />\n </p>\n\n<p><strong><big>10:00-11:15 תכנון חבות ותשלומי הביטוח הלאומי על סוגי ההכנסות השונים, כולל <u>הדגמה מעשית</u> </big></strong></p>\n\n<p><big>רו"ח שלומי בהט, שותף, מנהל סניף עומר, BDO זיו האפט</big><br />\n </p>\n\n<p><strong><big>11:15-11:30 הפסקה וכיבוד</big></strong><br />\n </p>\n\n<p><strong><big>11:30-12:15 הוראות המיסוי החדשות, חלופות ומסלולי המס והשלכותיהם על הקיבוץ והחברים</big></strong></p>\n\n<p><big>רו"ח דורון שטיין, שותף, מנהל מגזר ההתיישבות, BDO זיו האפט</big><br />\n </p>\n\n<hr />\n<p> </p>\n\n<p><big>הכנס מיועד ליו"רים, למרכזי משק, למנהלי קהילה, למנהלי חשבונות ראשיים (לכל היותר 4 משתתפים מכל קיבוץ)</big><br />\n </p>\n\n<p><big><u>תוכלו להרשם באחת מהדרכים הבאות:</u></big></p>\n\n<p><big>1. מילוי הטופס ושליחה לפקס מספר 03-6959769</big></p>\n\n<p><big>2. במייל k_e40@netvision.net.il</big></p>\n\n<p><big>3. בטלפונים הבאים: 03-6959770, 03-6959768</big></p>\n
SUMMARY:מהפכת המיסוי בקיבוצים והשלכותיה על אורחות החיים בקיבוץ
PRIORITY:3
BEGIN:VALARM
TRIGGER:P0DT0H15M
ACTION:DISPLAY
DESCRIPTION:Reminder
END:VALARM
END:VEVENT
END:VCALENDAR
